BEGIN:VCALENDAR
VERSION:2.0
PRODID:-//ChamberMaster//Event Calendar 2.0//EN
METHOD:PUBLISH
X-PUBLISHED-TTL:P3D
REFRESH-INTERVAL:P3D
CALSCALE:GREGORIAN
BEGIN:VEVENT
DTSTART:20260206T000000Z
DTEND:20260508T010000Z
X-MICROSOFT-CDO-ALLDAYEVENT:FALSE
SUMMARY:History Means Business
DESCRIPTION:Join us for a new speaker series connecting the past to today's success stories! Each session features area experts and local business owners sharing their real-world insights\, paired with Museum presentations highlighting historic moments in business innovation. Discover how lessons from history continue to inspire modern entrepreneurship and community growth! Each session is free-will donation 6:00-8:00 pm Hastings Museum Every month features a new topic and panelists! February 5th- Pitching & Presentation Skills March 12th- Marketing & Branding for the Entrepreneur April 9th- Legal Considerations May 7th- Financial Planning & Management
X-ALT-DESC;FMTTYPE=text/html:Join us for a new speaker series connecting the past to today&rsquo\;s success stories! Each session features area experts and local business owners sharing their real-world insights\, paired with Museum presentations highlighting historic moments in business innovation. Discover how lessons from history continue to inspire modern entrepreneurship and community growth! Each session is free-will donation 6:00-8:00 pm Hastings Museum Every month features a new topic and panelists! February 5th- Pitching &amp\; Presentation Skills March 12th- Marketing &amp\; Branding for the Entrepreneur April 9th- Legal Considerations May 7th- Financial Planning &amp\; Management
LOCATION:Hastings Museum
UID:e.2898.4269
SEQUENCE:3
DTSTAMP:20260419T131238Z
URL:https://members.hastingsedc.com/events/details/history-means-business-4269
END:VEVENT

END:VCALENDAR
